BEGIN:VCALENDAR
VERSION:2.0
PRODID:-//Tukios.com/
BEGIN:VEVENT
UID:9a45ff1a-cb2f-41a4-9277-cfcb95a18722@www.ledfordfamilyfh.com
DTSTAMP:20260420T232222Z
DTSTART:20260424T160000Z
DTEND:20260424T170000Z
SUMMARY:Graveside Service
DESCRIPTION:
URL:https://www.ledfordfamilyfh.com/obituaries/donna-lammers
LOCATION:Columbus Christian Fellowship Church 640 NW M Hwy  Centerview MO 
	64019
GEO:38.7436125;-93.8452216
END:VEVENT
END:VCALENDAR